BEGIN:VCALENDAR
VERSION:2.0
PRODID:-//wp-events-plugin.com//7.2.3.1//EN
TZID:Europe/Berlin
X-WR-TIMEZONE:Europe/Berlin
BEGIN:VEVENT
UID:115@britta-olde.de
DTSTART;TZID=Europe/Berlin:20261121T110000
DTEND;TZID=Europe/Berlin:20261121T160000
DTSTAMP:20260414T060646Z
URL:https://britta-olde.de/events/tages-workshop-jin-shin-jyutsu-meditatio
 n-5/
SUMMARY:Tages-Workshop Jin Shin Jyutsu & Meditation
DESCRIPTION:
CATEGORIES:Jin Shin Jyutsu &amp; Meditation VHS Schenefeld
END:VEVENT
BEGIN:VTIMEZONE
TZID:Europe/Berlin
X-LIC-LOCATION:Europe/Berlin
BEGIN:STANDARD
DTSTART:20261025T020000
TZOFFSETFROM:+0200
TZOFFSETTO:+0100
TZNAME:CET
END:STANDARD
END:VTIMEZONE
END:VCALENDAR