BEGIN:VCALENDAR
VERSION:2.0
PRODID:-//wp-events-plugin.com//7.2.3.1//EN
TZID:Europe/Berlin
X-WR-TIMEZONE:Europe/Berlin
BEGIN:VEVENT
UID:89@britta-olde.de
DTSTART;TZID=Europe/Berlin:20260312T110000
DTEND;TZID=Europe/Berlin:20260312T160000
DTSTAMP:20251215T095846Z
URL:https://britta-olde.de/events/die-kraft-des-atems-und-der-haende-5/
SUMMARY:Die Kraft des Atems und der Hände
DESCRIPTION:Ort:\nJordanstr. 2\n25899 Niebüll\nSeminarraum der Praxis „M
 edical2“\n\nNähere Angaben folgen...
CATEGORIES:Jin Shin Jyutsu &amp; Meditation
END:VEVENT
BEGIN:VTIMEZONE
TZID:Europe/Berlin
X-LIC-LOCATION:Europe/Berlin
BEGIN:STANDARD
DTSTART:20251026T020000
TZOFFSETFROM:+0200
TZOFFSETTO:+0100
TZNAME:CET
END:STANDARD
END:VTIMEZONE
END:VCALENDAR